BEGIN:VCALENDAR
PRODID:NingEventWidget-v1
VERSION:2.0
METHOD:PUBLISH
BEGIN:VEVENT
UID:5167423:Event:721
DTSTAMP:20260423T150146Z
SUMMARY:Famous 50's 18th. Northeast Nationals Hot Rod Weekend   Kerhon
 kson, N.Y.
DESCRIPTION:Cutoff year is 1985, but newer vehicles can come, just can
 't be judged -- Street Rods, Classics, Customs, Muscle Cars, Trucks, A
 ntique Cars, Rat Rods, P/T Cruisers. New for 2010 a Mustang Corral, an
 y year Mustang.\n\nDash Plaques 1st. 400 vehicles, Top 50 Awards plus 
 Special for Biggest motor, Best paint/Flames/Graphics.\n\n2 Free Welco
 me parties, 3 Bands, 3 Sock Hop Dances, 2 Concerts, Friday \"Elvis In 
 Concert\" & Saturday \"The Cameos\" Ice Cream Cruise and Block Party, 
 Contests Adult and Kids, \"Burnouts\" and the National Flames \"R\" Us
  flame throwing team, flames 6-100 foot at 2,500 degrees & much more.\
 n\nCheck out our Web Site at :FAMOUS50S.NET for more details. A great 
 show for the whole family.\n\nEvent Fees: Everything including the Con
 certs $40.00 for 2 Adults for the weekend, kids under 16 FREE\n\nHost 
 hotel Hudson Valley Resort room reservations BIG DISCOUNTS, 30% before
  January 31st, 20% Feb.1st. to March 31st, 10% April 1st. to May 31st.
  call 1-888-948-3766 for room discounts.\n\nFor more information visit
  https://northeastwheelsevents.com/events/famous-50s-18th-northeast
DTSTART:20100717T120000Z
DTEND:20100720T160000Z
CATEGORIES:car, show
LOCATION:Hudson Valley Resort, Granite Road
WEBSITE:http://FAMOUS50S.NET
URL:http://FAMOUS50S.NET
CONTACT:518-588-0814
ORGANIZER:John Stage
ATTACH;FMTTYPE="image/jpeg":
ATTENDEE;ROLE=REQ-PARTICIPANT;PARTSTAT=ACCEPTED;RSVP=TRUE;CN="Richard 
 Scott":https://northeastwheelsevents.com/profile/RichardScott
END:VEVENT
END:VCALENDAR
