BEGIN:VCALENDAR
PRODID:NingEventWidget-v1
VERSION:2.0
METHOD:PUBLISH
BEGIN:VEVENT
UID:5167423:Event:260277
DTSTAMP:20260425T225736Z
SUMMARY:FANNETT METAL HIGH SCHOOL CAR, TRUCK and MOTORCYCLE SHOW
DESCRIPTION:\n\nFor more information visit https://northeastwheelseven
 ts.com/events/fannettmetal-high-school-car-truck-amp-motorcycle-show
DTSTART:20200808T130000Z
DTEND:20200808T190000Z
CATEGORIES:car, show
LOCATION:FANNETT METAL HIGH SCHOOL
WEBSITE:
URL:
CONTACT:717-261-6397
ORGANIZER:John
ATTACH;FMTTYPE="image/jpeg":
ATTENDEE;ROLE=REQ-PARTICIPANT;PARTSTAT=ACCEPTED;RSVP=TRUE;CN="Jerry W 
 Holtry":https://northeastwheelsevents.com/profile/JerryWHoltry
END:VEVENT
END:VCALENDAR
