BEGIN:VCALENDAR
PRODID:NingEventWidget-v1
VERSION:2.0
METHOD:PUBLISH
BEGIN:VEVENT
UID:5167423:Event:63833
DTSTAMP:20260424T200704Z
SUMMARY:Fantastic Frozen Party
DESCRIPTION: \nThe Disney movie “Frozen” is coming to the AACA Mu
 seum!\nChoose from one of two sessions: 3-5:30 PM OR  6-8:30 PM\nFe
 stivities will take place on the lower level gallery of the AACA Museu
 m with the highlight being the Sing-A-Long version of “Frozen”! 
  You can also look forward to appearances by Elsa, fun snacks inclu
 ding pizza, hot dogs, cookies and beverages.We encourage you to come d
 ressed as your favorite Frozen character, and feel free to bring pill
 ows or sleeping bags to enjoy the movie – chairs will also be availa
 ble.\n \nPricing: $15 Adults / $10 children 4-12 / Children 3 & under
  are FREE\nAdvanced ticket purchase required\n\nFor more information v
 isit https://northeastwheelsevents.com/events/fantastic-frozen-party
DTSTART:20150215T200000Z
DTEND:20150216T020000Z
CATEGORIES:community
LOCATION:AACA Museum
WEBSITE:http://www.aacamuseum.org/fantastic-frozen-party/
URL:http://www.aacamuseum.org/fantastic-frozen-party/
CONTACT:717-566-7100
ORGANIZER;CN="AACA Museum":https://northeastwheelsevents.com/profile/A
 ACAMuseum553
ATTACH;FMTTYPE="image/jpeg":http://storage.ning.com/topology/rest/1.0/
 file/get/2284066166?profile=original
ATTENDEE;ROLE=REQ-PARTICIPANT;PARTSTAT=ACCEPTED;RSVP=TRUE;CN="AACA Mus
 eum":https://northeastwheelsevents.com/profile/AACAMuseum553
END:VEVENT
END:VCALENDAR
