BEGIN:VCALENDAR
PRODID:NingEventWidget-v1
VERSION:2.0
METHOD:PUBLISH
BEGIN:VEVENT
UID:5167423:Event:334997
DTSTAMP:20260423T122604Z
SUMMARY:Farm by Beer Tree 🎃 Trunk or Treat
DESCRIPTION:Bring the kids out for a fun and friendly Halloween aftern
 oon at Farm! Enjoy trick-or-treating from cars with playful themes, co
 llect some tasty treats, and show off those awesome costumes!\r\nBring
  your classic car, truck or bike for the trunk or treat! Cost: Free. 
 Contact farm@beertreebrew.com, or sign up in person at the Farm. \r\n
 More Info\r\n\r\nhttps://www.facebook.com/events/1413832130005762/\r\n
 \n\nFor more information visit https://northeastwheelsevents.com/event
 s/farm-by-beer-tree-trunk-or-treat
DTSTART:20241026T170000Z
DTEND:20241026T190000Z
CATEGORIES:carshow, trunkortreat
LOCATION:Beer Tree Brew Co.
WEBSITE:https://binghamton.macaronikid.com/events/66eb559d33bbcc575f92
 c0ee/farm-by-beer-tree--trunk-or-treat
URL:https://binghamton.macaronikid.com/events/66eb559d33bbcc575f92c0ee
 /farm-by-beer-tree--trunk-or-treat
CONTACT:607-264-0712
ORGANIZER:Beer Tree Brew Co.
ATTACH;FMTTYPE="image/jpeg":https://storage.ning.com/topology/rest/1.0
 /file/get/13007462285?profile=original
ATTENDEE;ROLE=REQ-PARTICIPANT;PARTSTAT=ACCEPTED;RSVP=TRUE;CN="William 
 Bruce":https://northeastwheelsevents.com/profile/WilliamBruce
END:VEVENT
END:VCALENDAR
