BEGIN:VCALENDAR
PRODID:NingEventWidget-v1
VERSION:2.0
METHOD:PUBLISH
BEGIN:VEVENT
UID:5167423:Event:117051
DTSTAMP:20260425T071536Z
SUMMARY:Fast~n~Loud III
DESCRIPTION:Fast~n~Loud III Cruise-In to benefit the Middletown Histor
 ic Society brought to you by Central Pa Car Shows. CALL FOR CONFORMATI
 ON AND INFORMATION.\n\nFor more information visit https://northeastwhe
 elsevents.com/events/fast-n-loud-iii
DTSTART:20160611T040000Z
DTEND:20160612T035900Z
CATEGORIES:car, show
LOCATION:Hoffer Park, Middletown, PA
WEBSITE:
URL:
CONTACT:https://www.facebook.com/events/1678649719089353/
ORGANIZER:Central PA Car Shows
ATTACH;FMTTYPE="image/jpeg":http://storage.ning.com/topology/rest/1.0/
 file/get/2284087258?profile=original
ATTENDEE;ROLE=REQ-PARTICIPANT;PARTSTAT=ACCEPTED;RSVP=TRUE;CN="Pamela H
 irschhorn":https://northeastwheelsevents.com/profile/PamelaHirschhorn
END:VEVENT
END:VCALENDAR
