BEGIN:VCALENDAR
PRODID:NingEventWidget-v1
VERSION:2.0
METHOD:PUBLISH
BEGIN:VEVENT
UID:5167423:Event:173406
DTSTAMP:20260423T221012Z
SUMMARY:Fastnacht Day
DESCRIPTION:Join us for Fastnacht Day in the 1938 Reading Diner!  Hav
 e a traditional Pennsylvania Dutch fastnacht for just a quarter, and a
  cup of coffee for a nickel!  This event is included with regular mus
 eum admission.\n\nFor more information visit https://northeastwheelsev
 ents.com/events/fastnacht-day-1
DTSTART:20180213T160000Z
DTEND:20180213T190000Z
CATEGORIES:fundraiser
LOCATION:Boyertown Museum of Historic Vehicles
WEBSITE:http://www.boyertownmuseum.org
URL:http://www.boyertownmuseum.org
CONTACT:610-367-2090
ORGANIZER;CN="Boyertown Museum of Historic Veh":https://northeastwheel
 sevents.com/profile/BoyertownMuseumofHistoricVeh
ATTACH;FMTTYPE="image/jpeg":http://storage.ning.com/topology/rest/1.0/
 file/get/2284102351?profile=original
ATTENDEE;ROLE=REQ-PARTICIPANT;PARTSTAT=ACCEPTED;RSVP=TRUE;CN="Boyertow
 n Museum of Historic Veh":https://northeastwheelsevents.com/profile/Bo
 yertownMuseumofHistoricVeh
END:VEVENT
END:VCALENDAR
