BEGIN:VCALENDAR
PRODID:NingEventWidget-v1
VERSION:2.0
METHOD:PUBLISH
BEGIN:VEVENT
UID:5167423:Event:60820
DTSTAMP:20260424T231649Z
SUMMARY:Fastnacht Day
DESCRIPTION:Do you like fresh, homemade Fastnachts?? If so, you should
  consider joining us for the museum's first annual Fastnacht Day in th
 e Fegely's Diner! This event will be held on Fat Tuesday; February 17t
 h from 11:00am-3:00pm. Grab a friend and come have a fastnacht and fre
 sh cup of coffee for fifty cents! We look forward to seeing you!!\n\nF
 or more information visit https://northeastwheelsevents.com/events/fas
 tnacht-day
DTSTART:20150217T160000Z
DTEND:20150217T200000Z
CATEGORIES:history
LOCATION:Boyertown Museum of Historic Vehicles
WEBSITE:http://www.boyertownmuseum.org
URL:http://www.boyertownmuseum.org
CONTACT:610-367-2090
ORGANIZER:Loretta Wolf
ATTACH;FMTTYPE="image/jpeg":
ATTENDEE;ROLE=REQ-PARTICIPANT;PARTSTAT=ACCEPTED;RSVP=TRUE;CN="Deborah 
 JH Bertolet":https://northeastwheelsevents.com/profile/DeborahJHBertol
 et
END:VEVENT
END:VCALENDAR
