BEGIN:VCALENDAR
PRODID:NingEventWidget-v1
VERSION:2.0
METHOD:PUBLISH
BEGIN:VEVENT
UID:5167423:Event:36635
DTSTAMP:20260424T074117Z
SUMMARY:Fathers Day Pretzel City Rod and Custom Car Show
DESCRIPTION:A Rod Run held by the Pretzel City Rod and Custom car club
  of Reading Penna.This is the 28th year of the Rod Run.  All Show Car
 s,Trucks are Welcome. Proceeds benefit local Charities. There will be 
 Dash Plaques to the first 200 registered cars.There will be games for 
 Children and Adults, 50/50 drawing and a D.J. Playing music during the
  Show.\n\nFor more information visit https://northeastwheelsevents.com
 /events/fathers-day-pretzel-city-rod-and-custom-car-show
DTSTART:20140615T120000Z
DTEND:20140615T193000Z
CATEGORIES:rod, and, custom, muscle, classic, car, show
LOCATION:Oley Fairgrounds
WEBSITE:https://maps.google.com/?ll=40.387061,-75.784716&spn=0.002623,
 0.005681&t=h&z=18
URL:https://maps.google.com/?ll=40.387061,-75.784716&spn=0.002623,0.00
 5681&t=h&z=18
CONTACT:610 777 1179
ORGANIZER:Mike Colon
ATTACH;FMTTYPE="image/jpeg":http://storage.ning.com/topology/rest/1.0/
 file/get/2284054727?profile=original
ATTENDEE;ROLE=REQ-PARTICIPANT;PARTSTAT=ACCEPTED;RSVP=TRUE;CN="Dennis L
 . Johnston":https://northeastwheelsevents.com/profile/DennisLJohnston
END:VEVENT
END:VCALENDAR
