BEGIN:VCALENDAR
PRODID:NingEventWidget-v1
VERSION:2.0
METHOD:PUBLISH
BEGIN:VEVENT
UID:5167423:Event:315722
DTSTAMP:20260422T205503Z
SUMMARY:FiberGlass And Steel All GM Car Show
DESCRIPTION:All GM Car Show. Judged Show with over 50 Trophy's Awarded
 . Sunday Sept. 10th At Macungie Memorial Park.\nDash Magnets to first 
 hundred Pre-Registered. \nCome Help us celebrate the 70th Anniversary
  of The Corvette!!\n\nFor more information visit https://northeastwhee
 lsevents.com/events/fiberglass-and-steel-all-gm-car-show
DTSTART:20230910T130000Z
DTEND:20230910T190000Z
CATEGORIES:car, show
LOCATION:Macungie Memorial Park
WEBSITE:http://www.allentowncorvetteclub.org/z23-fibglssteel-0910.pdf
URL:http://www.allentowncorvetteclub.org/z23-fibglssteel-0910.pdf
CONTACT:484-201-0018
ORGANIZER;CN="Bruce Garnto":https://northeastwheelsevents.com/profile/
 BruceGarnto
ATTACH;FMTTYPE="image/jpeg":https://storage.ning.com/topology/rest/1.0
 /file/get/11532247900?profile=original
ATTENDEE;ROLE=REQ-PARTICIPANT;PARTSTAT=ACCEPTED;RSVP=TRUE;CN="Bruce Ga
 rnto":https://northeastwheelsevents.com/profile/BruceGarnto
END:VEVENT
END:VCALENDAR
