BEGIN:VCALENDAR
PRODID:NingEventWidget-v1
VERSION:2.0
METHOD:PUBLISH
BEGIN:VEVENT
UID:5167423:Event:107454
DTSTAMP:20260424T193911Z
SUMMARY:FIFS Motorsports Ins/East Penn Modifiers Club 2nd annual \"Chi
 lly Cruise\"
DESCRIPTION:ATTENTION all classics, muscle cars, antiques, modern musc
 le, tuners, trucks, pro-streets, drag cars, hot rods, rat rods, motorc
 ycles, atv's, off road vehicles & anything with an engine! FIFS Motors
 ports Ins & the East Penn Modifiers Club invite you to the 2nd annual 
 \"Chilly Cruise\" located at the FIFS lot 199 Telford Pk, Telford. Eve
 nt scheduled for Sunday November 6th 2pm-6pm (rain date 11/13). Top 10
  + several special awards will be presented along with Crowd Pleasers 
 DJ, 50/50, raffles, door prizes, FREE marshmallows & more! Registratio
 n will start around 12:30pm & we're asking for a minimum $10 donation 
 for several local charities along with a non-perishable food product f
 or Keystone Opportunity Center. Come out bring the family & stand by t
 he fire pit, roast some marshmallows & check out the great vehicles! f
 or more info call Jim Hunsberger 215-313-7033 or FIFS Motorsports Ins 
 267384-5300\n\nFor more information visit https://northeastwheelsevent
 s.com/events/fifs-motorsports-ins-east-penn-modifiers-club-2nd-annual-
 chilly
DTSTART:20161106T190000Z
DTEND:20161106T230000Z
CATEGORIES:"benefit/fundraiser"
LOCATION:Indian Valley Center/FIFS parking lot
WEBSITE:
URL:
CONTACT:215-313-7033
ORGANIZER;CN="Jim Hunsberger":https://northeastwheelsevents.com/profil
 e/JimHunsberger
ATTACH;FMTTYPE="image/jpeg":http://storage.ning.com/topology/rest/1.0/
 file/get/2160571207?profile=original
ATTENDEE;ROLE=REQ-PARTICIPANT;PARTSTAT=ACCEPTED;RSVP=TRUE;CN="Jim Huns
 berger":https://northeastwheelsevents.com/profile/JimHunsberger
END:VEVENT
END:VCALENDAR
