BEGIN:VCALENDAR
PRODID:NingEventWidget-v1
VERSION:2.0
METHOD:PUBLISH
BEGIN:VEVENT
UID:5167423:Event:336832
DTSTAMP:20260420T035256Z
SUMMARY:Finger Lakes Snowmobile Club Vintage Snowmobile Show
DESCRIPTION:Vintage show Noon to 4 pm. Come join us to support our loc
 al club. Free General Admission!  Plenty of parking. Bring your vinta
 ge sled to display! $5 per sled, or $10 for 2 or more! Prizes for sled
 s judged, Classes: Best Restored! Most Original! Junkyard Dog! Best of
  Show!  Most Vintage in Snow! Vendors, contact the club for info. Foo
 d and craft beer and beverages available. For more info. Email: Kevin 
 McMahon at Kevinmcm2006@gmail.com Finger Lakes Snowmobile Club info. 
 too!\r\nTrack and post your local shows at https://vintagesleds.com/e
 vents/\n\nFor more information visit https://northeastwheelsevents.com
 /events/finger-lakes-snowmobile-club-vintage-snowmobile-show
DTSTART:20250222T170000Z
DTEND:20250222T210000Z
CATEGORIES:snowmobileshow, swapmeet
LOCATION:The Irish Mafia Brewing Company
WEBSITE:https://www.facebook.com/events/irish-mafia-brewing-company/vi
 ntage-snowmobile-show/1285728349351418/
URL:https://www.facebook.com/events/irish-mafia-brewing-company/vintag
 e-snowmobile-show/1285728349351418/
CONTACT:585-662-7947
ORGANIZER:Finger Lakes Snowmobile Club
ATTACH;FMTTYPE="image/jpeg":https://storage.ning.com/topology/rest/1.0
 /file/get/13400268086?profile=original
ATTENDEE;ROLE=REQ-PARTICIPANT;PARTSTAT=ACCEPTED;RSVP=TRUE;CN="William 
 Bruce":https://northeastwheelsevents.com/profile/WilliamBruce
END:VEVENT
END:VCALENDAR
