BEGIN:VCALENDAR
PRODID:NingEventWidget-v1
VERSION:2.0
METHOD:PUBLISH
BEGIN:VEVENT
UID:5167423:Event:328321
DTSTAMP:20260423T173523Z
SUMMARY:Firestone Trunk or Treat Cruise Night
DESCRIPTION:Bring out your classic, muscle car to the Firestone Trunk 
 of Treat. Wear your scariest costume.\n\nFor more information visit ht
 tps://northeastwheelsevents.com/events/firestone-trunk-or-treat-cruise
 -night
DTSTART:20241026T200000Z
DTEND:20241026T230000Z
CATEGORIES:cruise, night
LOCATION:Firestone Complete Auto Care
WEBSITE:
URL:
CONTACT:3029836966
ORGANIZER;CN="LaBarre Everette":https://northeastwheelsevents.com/prof
 ile/LaBarreEverette
ATTACH;FMTTYPE="image/jpeg":https://storage.ning.com/topology/rest/1.0
 /file/get/12630199671?profile=original
ATTENDEE;ROLE=REQ-PARTICIPANT;PARTSTAT=ACCEPTED;RSVP=TRUE;CN="LaBarre 
 Everette":https://northeastwheelsevents.com/profile/LaBarreEverette
END:VEVENT
END:VCALENDAR
