BEGIN:VCALENDAR
PRODID:NingEventWidget-v1
VERSION:2.0
METHOD:PUBLISH
BEGIN:VEVENT
UID:5167423:Event:311336
DTSTAMP:20260426T000031Z
SUMMARY:First Pennsylvania Mustang Club Cruise
DESCRIPTION:Across from Salâ€™s Pizza Randa Italian Restaurant in theÂ
  Country Square Shopping Center parking lot.\n\nAll Makes, Models and 
 Years are Welcome\n\n\n\nFor more information visit https://northeastw
 heelsevents.com/events/first-pennsylvania-mustang-club-cruise-2
DTSTART:20230423T200000Z
DTEND:20230423T230000Z
CATEGORIES:cruise
LOCATION:Salâ€™s Pizza Randa Italian Restaurant
WEBSITE:http://firstpamustang.org
URL:http://firstpamustang.org
CONTACT:215-536-2665
ORGANIZER:First Pennsylvania Mustang Club
ATTACH;FMTTYPE="image/jpeg":
ATTENDEE;ROLE=REQ-PARTICIPANT;PARTSTAT=ACCEPTED;RSVP=TRUE;CN="Shaun Ca
 mpbell":https://northeastwheelsevents.com/profile/C
END:VEVENT
END:VCALENDAR
