BEGIN:VCALENDAR
PRODID:NingEventWidget-v1
VERSION:2.0
METHOD:PUBLISH
BEGIN:VEVENT
UID:5167423:Event:328243
DTSTAMP:20260420T105403Z
SUMMARY:Flea Market at America on Wheels Museum
DESCRIPTION:Held Indoors Rain or Shine\nAdmission-$10.00, Children 12 
 & under FREE\n\nItems for Sale; Automotive, Bicycles, License Plates, 
 Parts, Hubcaps, Tools, Toys, Magazines, Books & more...\n\nCome find y
 our newest treasures!!!\nProceeds benefit Museum Operations.\n\nFor mo
 re information visit https://northeastwheelsevents.com/events/flea-mar
 ket-at-america-on-wheels-museum
DTSTART:20240622T140000Z
DTEND:20240623T190000Z
CATEGORIES:flea, market
LOCATION:AMERICA ON WHEELS MUSEUM
WEBSITE:http://WWW.AMERICAONWHEELS.ORG
URL:http://WWW.AMERICAONWHEELS.ORG
CONTACT:6104324200
ORGANIZER;CN="Linda Merkel":https://northeastwheelsevents.com/profile/
 LindaMerkel
ATTACH;FMTTYPE="image/jpeg":
ATTENDEE;ROLE=REQ-PARTICIPANT;PARTSTAT=ACCEPTED;RSVP=TRUE;CN="Linda Me
 rkel":https://northeastwheelsevents.com/profile/LindaMerkel
END:VEVENT
END:VCALENDAR
