BEGIN:VCALENDAR
PRODID:NingEventWidget-v1
VERSION:2.0
METHOD:PUBLISH
BEGIN:VEVENT
UID:5167423:Event:145761
DTSTAMP:20260420T170002Z
SUMMARY:Fleetwood Rotary 12th Annual Show of Wheels
DESCRIPTION:Good Food - Good Music - Good Shade - Good Times – It’
 s All Good\n Registration 8:30 AM—11:30 AM         Judging 1
 2:00 Noon        Awards 3:00 PM\n Pre-registration until Wed 6/
 7/17: $12.00             Registration at the gate: $17.00\n
  GOODY BAGS & DASH PLAQUES TO THE FIRST 200 REGISTERED CARS!\n Vendo
 rs: $20.00 - MUST BE PRE-REGISTERED\n Reserved club parking for pre-r
 egistered car clubs\nOver 70 HUGE Trophies\nTop 20 Stock Car or Truck\
 nTop 5 Trucks\nTop 30 Modified Cars or Trucks\n4 Motorcycle Awards\nTo
 p 2 Rat Rods\nTop 2 Imports\n 9 additional Special Awards\n- All chos
 en by Registered Participants -\n \nFOOD * FOOD * FOOD\nBREAKFAST Ava
 ilable from 7:00 am\nBURGERS * HOTDOGS * MUCH MORE\n Door Prizes ** 5
 0/50 Drawing ** Food ** Entertainment ** Chance Auction\n MUSIC BY TH
 E SOUND FACTORY\nwww.FleetwoodPARotary.org to download a flyer at http
 s://drive.google.com/open?id=0B9PXIQ0TD9L1QWx0ZjAzVlFKU3c\n\n\nFor mor
 e information visit https://northeastwheelsevents.com/events/fleetwood
 -rotary-12th-annual-show-of-wheels
DTSTART:20170610T120000Z
DTEND:20170610T200000Z
CATEGORIES:show, of, wheels
LOCATION:Fleetwood Community Park
WEBSITE:http://www.FleetwoodPARotary.org
URL:http://www.FleetwoodPARotary.org
CONTACT:484-575-8113
ORGANIZER;CN="Jim Long":https://northeastwheelsevents.com/profile/JimL
 ong
ATTACH;FMTTYPE="image/jpeg":http://storage.ning.com/topology/rest/1.0/
 file/get/2284098746?profile=original
ATTENDEE;ROLE=REQ-PARTICIPANT;PARTSTAT=ACCEPTED;RSVP=TRUE;CN="Jim Long
 ":https://northeastwheelsevents.com/profile/JimLong
ATTENDEE;ROLE=REQ-PARTICIPANT;PARTSTAT=TENTATIVE;RSVP=TRUE;CN="Larry C
 arl":https://northeastwheelsevents.com/profile/LarryCarl
END:VEVENT
END:VCALENDAR
