BEGIN:VCALENDAR
PRODID:NingEventWidget-v1
VERSION:2.0
METHOD:PUBLISH
BEGIN:VEVENT
UID:5167423:Event:332458
DTSTAMP:20260425T203632Z
SUMMARY:Fly Creek Antigue Engine Show
DESCRIPTION:\r\n\r\n\r\n\r\n\r\n\r\n\r\n\r\n\r\nThe Fly Creek Cider Mi
 ll & Orchard will host its  Antique Engine Show Saturday August 24. 
  Single-cylinder gas engine enthusiasts around the region will join to
 gether in displaying their prized antiques from the early 1900’s. 
 The engine I’ve got was originally set up on a corn mill, and used
  to grind corn,” says David Lyons from Fly Creek. “Granted, electr
 ic is far more economical by today's standards, but I just like to kee
 p some of the old history going\". The Engine Show will be held rain o
 r shine from 10:00 until 4:00.  Admission and parking are free.\r\nIf
  you would like to be an Engine Show Exhibitor - Please complete and s
 ubmit the form below.\r\n\r\n\r\n\r\n\r\nFiles: \r\n\r\n engine_exhi
 bitor_registration_form.pdf\r\n\r\n\r\n\r\n\r\n\r\n\r\n\r\n\r\n\r\n\r\
 n\r\n\r\n\r\nRead about the show here: \r\nhttps://www.wktv.com/news/f
 ly-creek-cider-mill-hosts-antique-engine-show/article_8497d58a-446d-11
 ee-8a38-4fd8dd5f58e3.html/\r\n\r\n\r\n\n\nFor more information visit h
 ttps://northeastwheelsevents.com/events/fly-creek-antigue-engine-show
DTSTART:20240824T140000Z
DTEND:20240824T200000Z
CATEGORIES:engineshow
LOCATION:Fly Creek Cider Mill
WEBSITE:https://flycreekcidermill.com/antique-engine-show
URL:https://flycreekcidermill.com/antique-engine-show
CONTACT:607-547-9692
ORGANIZER:Fly Creek Cider Mill
ATTACH;FMTTYPE="image/jpeg":https://storage.ning.com/topology/rest/1.0
 /file/get/12859510264?profile=original
ATTENDEE;ROLE=REQ-PARTICIPANT;PARTSTAT=ACCEPTED;RSVP=TRUE;CN="William 
 Bruce":https://northeastwheelsevents.com/profile/WilliamBruce
END:VEVENT
END:VCALENDAR
