BEGIN:VCALENDAR
PRODID:NingEventWidget-v1
VERSION:2.0
METHOD:PUBLISH
BEGIN:VEVENT
UID:5167423:Event:1193
DTSTAMP:20260422T223955Z
SUMMARY:Flying Lizards Motorsports - ALMS - Mid-Ohio - Round 6 - Broad
 cast LIVE
DESCRIPTION:Up next for the Flying Lizards is Mid Ohio, Green flag on 
 Saturday, August 7 at 3 pm ET.\n\nFACEBOOK http://www.facebook.com/gro
 up.php?gid=32302204894#!/event.php?eid=139140916118285&ref=mf\n\nββ
 βββββββββββββββββββββββ
 βββββββββββββββββββββ\nLATES
 T NEWS:\nFlying Lizard at Mid-Ohio August 7: Bergmeister and Long Look
  to Extend Championship Lead, Patrick Pilet Joins No. 44\n\n...It will
  be broadcast LIVE on the Internet from www.americanlemans.com/ and ta
 pe-delayed on CBS, Sunday August 15 from 12:30 pm - 2:00 pm ET and on 
 MotorsTV in Europe on Sunday, August 15 at 16.30h UK and 17.30h CET.\n
 \nβββββββββββββββββββββββ
 βββββββββββββββββββββββ
 \n\nFlying Lizard Motorsports\nhttp://www.lizardms.com/index.htm\n\nFo
 llow the Flying Lizard Motorsports team 2010 racing season. Updates on
  how they are are doing in the American Le Mans Series.\nhttp://flying
 lizard.typepad.com/\n\nTeam gear will be available in the paddock at t
 he race and online at http://www.lizardms.com/store.htm\n\nββββ
 βββββββββββββββββββββββ
 βββββββββββββββββββ\n\nRACE & BR
 OADCAST\nStart: August 7, 2010, 3:00 pm ET. 2 hour, 45 minute race.\nL
 ive on the Internet: www.americanlemans.com/\nTV USA: CBS, tape-delaye
 d Sun. Aug 15, 12:30 pm- 2:00 pm ET\nTV Europe: MotorsTV tape-delayed,
  Sun. Aug 15, 16.30h UK / 17.30h CET.\n\nββββββββββ
 βββββββββββββββββββββββ
 βββββββββββββ\nFull Live Race, Qualifying Vi
 deo for Mid-Ohio!\nhttp://www.midohio.com/Schedule/Mid-Ohio-Sports-Car
 -Challenge---The-Honda-Indy-200/Full-Live-Race,-Qualifying-Video-for-M
 id-Ohio!\n\nAfter a tremendously successful offering in May, the Ameri
 can Le Mans Series presented by Tequila PatrΓ³n and TodoCast.tv will t
 eam to stream next weekβs Mid-Ohio Sports Car Challenge β the sixt
 h round of the Seriesβ 2010 championship.\n\nFans from all over the 
 globe can tune in to www.americanlemans.com/ starting at 2:30 p.m. ET 
 on Saturday, August 7 for all the action from Mid-Ohio Sports Car Cour
 se with race coverage brought to you by Falken Tire.\n\nThe race is se
 t for 3 p.m. ET. In addition, Fridayβs qualifying session will be st
 reamed live, presented by Porsche, starting at 1:45 p.m. ET. Audio aga
 in will come courtesy of American Le Mans Radio presented by Porsche.\
 n\nThe Mid-Ohio round will also be the subject of INTERSPORTβs next 
 production of the American Le Mans Series. It will air at 12:30 p.m. o
 n Sunday, August 15 on CBS Sports.\nββββββββββββ
 βββββββββββββββββββββββ
 βββββββββββ\nAcura Sports Car Challenge/Mid-Ohi
 o\nMid-Ohio Sports Car Course\nLexington, OH\nhttp://www.midohio.com/\
 n2.25 mile, 13 turns, 2 hours 45 minutes\nPDF Entry List: http://www.m
 idohio.com/Assets/Documents/Other/ALMS-Entry-List\nLink www.americanle
 mans.com/\n\nβββββββββββββββββββ
 ββββββββββββββββββββββββ
 βββ\nALMS SCHEDULE Click here: http://www.midohio.com/Assets/D
 ocuments/Schedules/ALMS-Indy-Schedule-%281%29\nfor a printable version
  of the 2010 Mid-Ohio Sports Car Challenge / The Honda Indyβ’ 200 at 
 Mid-Ohio presented by Westfield Insurance schedule\nββββββ
 ββββββββββββββββββββββββ
 ββββββββββββββββ\n\nFor more informa
 tion visit https://northeastwheelsevents.com/events/flying-lizards-mot
 orsports
DTSTART:20100807T190000Z
DTEND:20100807T220000Z
CATEGORIES:american, lemans, series, -, racing
LOCATION:Mid-Ohio Sports Car Course
WEBSITE:
URL:
CONTACT:
ORGANIZER;CN="Dede Seward":https://northeastwheelsevents.com/profile/D
 edeSeward
ATTACH;FMTTYPE="image/jpeg":http://storage.ning.com/topology/rest/1.0/
 file/get/2063388406?profile=original
ATTENDEE;ROLE=REQ-PARTICIPANT;PARTSTAT=ACCEPTED;RSVP=TRUE;CN="Dede Sew
 ard":https://northeastwheelsevents.com/profile/DedeSeward
END:VEVENT
END:VCALENDAR
