BEGIN:VCALENDAR
PRODID:NingEventWidget-v1
VERSION:2.0
METHOD:PUBLISH
BEGIN:VEVENT
UID:5167423:Event:67934
DTSTAMP:20260421T224343Z
SUMMARY:Fords at Wall (NJ)
DESCRIPTION:The Garden State Region Mustang Club (GSRMC.org) and Georg
 e Wall Ford & Lincoln are having a Spring Car Show “Fords at Wall”
  on Saturday April 25th 2015 (rain date: May 2nd 2015). Open to ALL Fo
 rd Powered Vehicles. LIMITED to 75 Vehicles. Trophies for the Favorite
  40 Awards, plus Best of Car Show awards too. FREE Car Show T-Shirt to
  the first 50 Pre-Registered vehicles before 04/18/2015. Portion of th
 e proceeds for the benefit of MDA Charity.  Dash Plaques & Goodie Bag
 s to the first 75 vehicles. Food & Drinks and Music. Car Show Registra
 tion 9:00am – 11:00am. George Wall Ford & Lincoln located at 700 Shr
 ewsbury Ave, Red Bank, NJ 07701 for more information call Mike D (201)
  933-6915 or Carol R (201) 377-4876. Visit the gsrmc.org website.\n\nF
 or more information visit https://northeastwheelsevents.com/events/for
 ds-at-wall-nj
DTSTART:20150425T130000Z
DTEND:20150425T190000Z
CATEGORIES:car, show
LOCATION:George Wall Ford & Lincoln
WEBSITE:http://www.gsrmc.org
URL:http://www.gsrmc.org
CONTACT:201-933-6915
ORGANIZER:Garden State Region Mustang Club
ATTACH;FMTTYPE="image/jpeg":http://storage.ning.com/topology/rest/1.0/
 file/get/2284070877?profile=original
ATTENDEE;ROLE=REQ-PARTICIPANT;PARTSTAT=ACCEPTED;RSVP=TRUE;CN="Bill Pri
 tchett":https://northeastwheelsevents.com/profile/BillPritchett
END:VEVENT
END:VCALENDAR
