BEGIN:VCALENDAR
PRODID:NingEventWidget-v1
VERSION:2.0
METHOD:PUBLISH
BEGIN:VEVENT
UID:5167423:Event:69527
DTSTAMP:20260421T194114Z
SUMMARY:FORM FOLLOWS FUNCTION: HOW TECH DRIVES BEAUTY!
DESCRIPTION:Every year, a radical design seem to evolve, not just from
  the search for beauty, but because certain factors of performance dic
 tate the design. We will show a few leading examples from 1909 through
  1970.\n1909 American Underslung1956 Mercedes 300SL Gullwing1957 Ferra
 ri 250 Testa Rossa1970 Plymouth Superbird\n\nAdmission to each Demonst
 ration Day is included as part of the regular General Admission price 
       ( $12 ). To get tickets to our Demo Days, all you have to do 
 is purchase General Admission tickets below! Simply add up the number 
 of Demo Days you wish to attend. If you aren’t able to attend a part
 icular Demo Day, you can still use them to attend the Museum during re
 gular hours.\n\nFor more information visit https://northeastwheelseven
 ts.com/events/form-follows-function-how-tech-drives-beauty
DTSTART:20150425T160000Z
DTEND:20150425T180000Z
CATEGORIES:test, day, discussion
LOCATION:Simeone Automotive Foundation Museum
WEBSITE:http://www.simeonemuseum.org/
URL:http://www.simeonemuseum.org/
CONTACT:(215) 365-7233
ORGANIZER:Simeone Automotive Foundation Museum
ATTACH;FMTTYPE="image/jpeg":http://storage.ning.com/topology/rest/1.0/
 file/get/2284070837?profile=original
ATTENDEE;ROLE=REQ-PARTICIPANT;PARTSTAT=ACCEPTED;RSVP=TRUE;CN="Alex Mar
 tin":https://northeastwheelsevents.com/profile/Alexmartin
END:VEVENT
END:VCALENDAR
