BEGIN:VCALENDAR
PRODID:NingEventWidget-v1
VERSION:2.0
METHOD:PUBLISH
BEGIN:VEVENT
UID:5167423:Event:313363
DTSTAMP:20260422T103339Z
SUMMARY:Four Alarm Collector Car Show
DESCRIPTION:Come out to the big annual Four Alarm Collector Car Show\n
 held at the Fire Museum of Maryland at\n1301 York Road in Lutherville,
  Maryland 21093.\nAwards presented. All types of vehicles welcome.\nVe
 hicle gate registration only $10.00. \n\nEnjoy the day. Bring some ch
 airs and a picnic lunch.\n\nTour the Fire Museum. Bring the kids!\n\nS
 ponsor: Chesapeake Region - AACA\n\nFor more information visit https:/
 /northeastwheelsevents.com/events/four-alarm-collector-car-show-2
DTSTART:20230708T150000Z
DTEND:20230708T180000Z
CATEGORIES:collector, car, show
LOCATION:Fire Museum of Maryland
WEBSITE:https://www.google.com/maps/place/1301+York+Rd,+Timonium,+MD+2
 1093/@39.4179793,-76.6167157,17z/data=!3m1!4b1!4m6!3m5!1s0x89c80e48e2d
 30d4d:0xb80fce99bc85ce63!8m2!3d39.4179752!4d-76.6145217!16s%2Fg%2F11c3
 q3k49t
URL:https://www.google.com/maps/place/1301+York+Rd,+Timonium,+MD+21093
 /@39.4179793,-76.6167157,17z/data=!3m1!4b1!4m6!3m5!1s0x89c80e48e2d30d4
 d:0xb80fce99bc85ce63!8m2!3d39.4179752!4d-76.6145217!16s%2Fg%2F11c3q3k4
 9t
CONTACT:410-292-3656
ORGANIZER:Phil Hack
ATTACH;FMTTYPE="image/jpeg":https://storage.ning.com/topology/rest/1.0
 /file/get/11023250059?profile=original
ATTENDEE;ROLE=REQ-PARTICIPANT;PARTSTAT=ACCEPTED;RSVP=TRUE;CN="Harold D
 iehl":https://northeastwheelsevents.com/profile/HaroldDiehl
END:VEVENT
END:VCALENDAR
