BEGIN:VCALENDAR
PRODID:NingEventWidget-v1
VERSION:2.0
METHOD:PUBLISH
BEGIN:VEVENT
UID:5167423:Event:114895
DTSTAMP:20260421T110031Z
SUMMARY:Frenchie's Great Northern N.Y Auto Show
DESCRIPTION:****NOTE: ALL MAKES AND MODLES FOREGIN AND DOMESTIC ARE IN
 VITED TO PARTICIPATE**** A large contingent of what’s known as “Mu
 scle Cars”, \"Muscle Trucks\", \"Classic Automobiles\", \"Motorcycle
 s\" and \"Unique Vehicles\" from both Canada and the US are expected t
 o be on hand for what promises to be a very exciting day on East Orvis
  St. in Massena.\n Frenchie’s Chevrolet and Frenchie’s Ford will b
 e teaming up  to bring the north country the “Frenchie’s Great Nor
 thern N.Y Auto Show. “ on East Orvis St. in Massena N.Y. On Saturday
  May 21st.\n The event will start at 10:00am and run until 3:00pm with
  registration starting at 10:00am and run until 12:00pm.\n\nIncluding 
 but not limited to:\n\n-a 50/50 raffle\n-Dunk Tank\n-Arcade Booths\n-F
 ood Vendors\n-Bouncy House\n-Music By DJ\n-Giveaways\n\nMark your cale
 ndar now! It’s the Frenchie’s Great Northern N.Y Auto Show, Saturd
 ay May 21st 10:00am to 3:00pm. DON’T MISS IT !\n\nFor more informati
 on visit https://northeastwheelsevents.com/events/frenchie-s-great-nor
 thern-n-y-auto-show
DTSTART:20160521T140000Z
DTEND:20160521T190000Z
CATEGORIES:auto, show
LOCATION:East Orvis St. from Frenchie's Chevrolet to Frenchie's Ford
WEBSITE:https://www.facebook.com/events/1545940809032228/
URL:https://www.facebook.com/events/1545940809032228/
CONTACT:3158425640
ORGANIZER;CN="Clayton Plourde":https://northeastwheelsevents.com/profi
 le/ClaytonPlourde
ATTACH;FMTTYPE="image/jpeg":http://storage.ning.com/topology/rest/1.0/
 file/get/2284086134?profile=original
ATTENDEE;ROLE=REQ-PARTICIPANT;PARTSTAT=ACCEPTED;RSVP=TRUE;CN="Clayton 
 Plourde":https://northeastwheelsevents.com/profile/ClaytonPlourde
END:VEVENT
END:VCALENDAR
