BEGIN:VCALENDAR
PRODID:NingEventWidget-v1
VERSION:2.0
METHOD:PUBLISH
BEGIN:VEVENT
UID:5167423:Event:101658
DTSTAMP:20260425T190055Z
SUMMARY:Friend Day at America On Wheels Museum - Buy One Get One FREE
DESCRIPTION:Stop by America On Wheels Museum with a friend and receive
  a Buy One Get One FREE!\n\nFor more information visit https://northea
 stwheelsevents.com/events/friend-day-at-america-on-wheels-museum-buy-o
 ne-get-one-free
DTSTART:20160213T150000Z
DTEND:20160213T200000Z
CATEGORIES:family, friends, free, museum, cars, trucks, bikes
LOCATION:America On Wheels Museum
WEBSITE:http://americaonwheels.org/
URL:http://americaonwheels.org/
CONTACT:610-432-4200
ORGANIZER:America On Wheels Museum
ATTACH;FMTTYPE="image/jpeg":http://storage.ning.com/topology/rest/1.0/
 file/get/2284065500?profile=original
ATTENDEE;ROLE=REQ-PARTICIPANT;PARTSTAT=ACCEPTED;RSVP=TRUE;CN="America 
 On Wheels Museum":https://northeastwheelsevents.com/profile/americaonw
 heels
END:VEVENT
END:VCALENDAR
