BEGIN:VCALENDAR
PRODID:NingEventWidget-v1
VERSION:2.0
METHOD:PUBLISH
BEGIN:VEVENT
UID:5167423:Event:710
DTSTAMP:20260423T020109Z
SUMMARY:Full House Motorsports 2nd Annual Summer Heat Car Show   Hatfi
 eld, PA
DESCRIPTION:Open to all years, makes & models. Trophies: Top 15 in Sto
 ck, Top 15 in Modified, Top 10 in New Age plus 13 \"Specialty\" Trophi
 es. Music provided by Marlin Disc Jockeys. Dash plaques to the first 5
 0 pre-registered cars.\n\nPre-registraation before 8/7/10 - $10 per ca
 r; DOS - $15 per car.\n\nFor more information visit https://northeastw
 heelsevents.com/events/full-house-motorsports-2nd
DTSTART:20100822T170000Z
DTEND:20100822T210000Z
CATEGORIES:car, show
LOCATION:Hilltown Crossings Shopping Center (Walmart),
WEBSITE:http://carshow@fullhousemotorsports.com
URL:http://carshow@fullhousemotorsports.com
CONTACT:
ORGANIZER:
ATTACH;FMTTYPE="image/jpeg":
ATTENDEE;ROLE=REQ-PARTICIPANT;PARTSTAT=ACCEPTED;RSVP=TRUE;CN="Richard 
 Scott":https://northeastwheelsevents.com/profile/RichardScott
END:VEVENT
END:VCALENDAR
