BEGIN:VCALENDAR
PRODID:NingEventWidget-v1
VERSION:2.0
METHOD:PUBLISH
BEGIN:VEVENT
UID:5167423:Event:334710
DTSTAMP:20260422T175132Z
SUMMARY:Gapplebees Car Meet🍎
DESCRIPTION:Cruise In, hang out, all welcome! Please respect the prope
 rty, no loud music, no burnouts and no excessive revving if you wanna 
 do dumb shit do it off the property if you are seen doing dumb shit we
  will start asking people to leave and not return.\r\nInfo. on club: 
 \r\nhttps://www.facebook.com/groups/172897934989466/\r\nGapplebees t s
 hirt: https://www.etsy.com/listing/1051189289/gapplebees-racing-t-shir
 t/\n\nFor more information visit https://northeastwheelsevents.com/eve
 nts/gapplebees-car-meet
DTSTART:20240928T230000Z
DTEND:20240929T010000Z
CATEGORIES:cruisein
LOCATION:Applebee's Grill + Bar at Vestal
WEBSITE:https://www.facebook.com/events/applebees-grill-bar/gapplebees
 -car-meet/1963592597401450/
URL:https://www.facebook.com/events/applebees-grill-bar/gapplebees-car
 -meet/1963592597401450/
CONTACT:
ORGANIZER:607 Car Meets/ Racing
ATTACH;FMTTYPE="image/jpeg":https://storage.ning.com/topology/rest/1.0
 /file/get/12963952286?profile=original
ATTENDEE;ROLE=REQ-PARTICIPANT;PARTSTAT=ACCEPTED;RSVP=TRUE;CN="William 
 Bruce":https://northeastwheelsevents.com/profile/WilliamBruce
END:VEVENT
END:VCALENDAR
