BEGIN:VCALENDAR
PRODID:NingEventWidget-v1
VERSION:2.0
METHOD:PUBLISH
BEGIN:VEVENT
UID:5167423:Event:334488
DTSTAMP:20260422T211252Z
SUMMARY:Gas N' Gears Car Show & Block Party
DESCRIPTION:\r\n\r\nGet ready to rev your engines and soak up the good
  vibes at the Gas N' Gears Car Show & Block Party! \r\nJoin us on Sep
 tember 28th from 3-7pm at Dazed Dispensary in Holyoke, MA for an unfor
 gettable afternoon of cars, music, food, and fun.\r\n\r\nFeast your ey
 es on a dazzling array of exotic cars, compete for exciting prizes, an
 d groove to the beats of our live DJ. Satisfy your hunger with delicio
 us treats from our food trucks and explore a variety of vendors offeri
 ng unique products.\r\n\r\nDon't miss out on this epic event! Bring yo
 ur friends and family for a day of unforgettable memories.\r\n\r\nFree
  admission 21+ Plus \r\nhttps://dazed.fun/locations/holyoke/ \r\n\r\
 n#GasNGears #CarShow #BlockParty #DazedDispensary #HolyokeMA\r\n\r\n\n
 \nFor more information visit https://northeastwheelsevents.com/events/
 gas-n-gears-car-show-block-party
DTSTART:20240928T190000Z
DTEND:20240928T230000Z
CATEGORIES:carshow
LOCATION:56 Jackson Street
WEBSITE:https://www.eventbrite.com/e/gas-n-gears-car-show-block-party-
 tickets-981874652517
URL:https://www.eventbrite.com/e/gas-n-gears-car-show-block-party-tick
 ets-981874652517
CONTACT:413-650-0155
ORGANIZER:Queens &amp; Paint
ATTACH;FMTTYPE="image/jpeg":https://storage.ning.com/topology/rest/1.0
 /file/get/12958913484?profile=original
ATTENDEE;ROLE=REQ-PARTICIPANT;PARTSTAT=ACCEPTED;RSVP=TRUE;CN="William 
 Bruce":https://northeastwheelsevents.com/profile/WilliamBruce
END:VEVENT
END:VCALENDAR
