BEGIN:VCALENDAR
PRODID:NingEventWidget-v1
VERSION:2.0
METHOD:PUBLISH
BEGIN:VEVENT
UID:5167423:Event:310560
DTSTAMP:20260422T124027Z
SUMMARY:Gasket Goons Pa. CANCELED  RAIN DATE: Oct 7th!!!!!
DESCRIPTION:Postponed Rain     rain date is          10- 7- 20
 23\n\nFor more information visit https://northeastwheelsevents.com/eve
 nts/gasket-goons-pa-1
DTSTART:20230909T040000Z
DTEND:20230910T035900Z
CATEGORIES:car, show
LOCATION:Silver Creek A.A.
WEBSITE:
URL:
CONTACT:
ORGANIZER;CN="GASKET GOONS PA.":https://northeastwheelsevents.com/prof
 ile/GASKETGOONSPA
ATTACH;FMTTYPE="image/jpeg":https://storage.ning.com/topology/rest/1.0
 /file/get/12219008268?profile=original
ATTENDEE;ROLE=REQ-PARTICIPANT;PARTSTAT=ACCEPTED;RSVP=TRUE;CN="GASKET G
 OONS PA.":https://northeastwheelsevents.com/profile/GASKETGOONSPA
END:VEVENT
END:VCALENDAR
