BEGIN:VCALENDAR
PRODID:NingEventWidget-v1
VERSION:2.0
METHOD:PUBLISH
BEGIN:VEVENT
UID:5167423:Event:178925
DTSTAMP:20260425T210316Z
SUMMARY:Gettysburg Bike Week
DESCRIPTION:Gettysburg Bike Week is Eastern Pennsylvania’s definitiv
 e motorcycle rally, featuring great national music acts, historic ridi
 ng and hospitality that you can only find in a city with this much his
 tory.\nFor more information on the Rally, including scheduling, lodgin
 g options, and more, visit www.gettysburgbikeweek.com. Follow them on 
 Twitter: @GburgBikeWk. To contact Gettysburg Bike Week, e-mail gbwvend
 or@yahoo.com.\n\nThis year's headliners:  Parmalee, Lita Ford and Jac
 kyl!\n\nFor more information visit https://northeastwheelsevents.com/e
 vents/gettysburg-bike-week-2
DTSTART:20180712T180000Z
DTEND:20180715T180000Z
CATEGORIES:motorcycle, rally
LOCATION:Allstar Events Complex
WEBSITE:http://www.gettysburgbikeweek.com
URL:http://www.gettysburgbikeweek.com
CONTACT:7178736181
ORGANIZER;CN="Kelly shue":https://northeastwheelsevents.com/profile/Ke
 llyshue
ATTACH;FMTTYPE="image/jpeg":http://storage.ning.com/topology/rest/1.0/
 file/get/2284104743?profile=original
ATTENDEE;ROLE=REQ-PARTICIPANT;PARTSTAT=ACCEPTED;RSVP=TRUE;CN="Kelly sh
 ue":https://northeastwheelsevents.com/profile/Kellyshue
END:VEVENT
END:VCALENDAR
