BEGIN:VCALENDAR
PRODID:NingEventWidget-v1
VERSION:2.0
METHOD:PUBLISH
BEGIN:VEVENT
UID:5167423:Event:36456
DTSTAMP:20260423T195442Z
SUMMARY:Gettysburg Region 39th Annual Car, Truck Show
DESCRIPTION:The Gettysburg Region AACA is hosting a Car and Truck Show
  and Flea market at the Latimore Valley Fairgrounds, York Springs PA.Â
   Feature cars this year are Mercury...all yearsÂ  celebrating 75 year
 s, plus Lincoln and Edsel cars through 1994. The show will be held on 
 June 14, 2014 and runs from 7AM to 3PM.Â  Trophies and participation a
 wards will be given.Â  Contact Rick Engle 717 451 0092 for details or 
 check out our website www.aaca,org/gettysburg\n\nFor more information 
 visit https://northeastwheelsevents.com/events/gettysburg-region-39th-
 annual-car-truck-show
DTSTART:20140614T110000Z
DTEND:20140614T190000Z
CATEGORIES:car, and, truck, show
LOCATION:Latimore Valley Fairgrounds, York Springs, PA
WEBSITE:
URL:
CONTACT:717 451 0092
ORGANIZER;CN="Richard Engle":https://northeastwheelsevents.com/profile
 /RichardEngle
ATTACH;FMTTYPE="image/jpeg":
ATTENDEE;ROLE=REQ-PARTICIPANT;PARTSTAT=ACCEPTED;RSVP=TRUE;CN="Richard 
 Engle":https://northeastwheelsevents.com/profile/RichardEngle
END:VEVENT
END:VCALENDAR
