BEGIN:VCALENDAR
PRODID:NingEventWidget-v1
VERSION:2.0
METHOD:PUBLISH
BEGIN:VEVENT
UID:5167423:Event:106517
DTSTAMP:20260425T085930Z
SUMMARY:Gettysburg Region AACA 41st Annual Show
DESCRIPTION:15 classes, 12 judged. Featured car, station wagons, all y
 ears. Othyer cars & trucks through 1991. Registration is $10 until 6/4
 , $15 thereafter, fles market is $15 until 6/4, $20. thereafter. Free 
 registration for 2nd vehicle from same family. Do not have to be G-bur
 g Region member to participate. Judgeing begins at 11:00am.  Good foo
 d during show, fun for whole family.  Admission free, parking $2.00.\
 n\nFor more information visit https://northeastwheelsevents.com/events
 /gettysburg-region-aaca-41st-annual-show
DTSTART:20160611T110000Z
DTEND:20160611T190000Z
CATEGORIES:antique, auto, "&", truck, show
LOCATION:latimaore Valley Fairgrounds
WEBSITE:
URL:
CONTACT:717-451-0092
ORGANIZER:Rick Engle
ATTACH;FMTTYPE="image/jpeg":
ATTENDEE;ROLE=REQ-PARTICIPANT;PARTSTAT=ACCEPTED;RSVP=TRUE;CN="Allan Ma
 ybee":https://northeastwheelsevents.com/profile/AllanMaybee
END:VEVENT
END:VCALENDAR
