BEGIN:VCALENDAR
PRODID:NingEventWidget-v1
VERSION:2.0
METHOD:PUBLISH
BEGIN:VEVENT
UID:5167423:Event:71510
DTSTAMP:20260420T213800Z
SUMMARY:gFree Bike Show
DESCRIPTION:this is a free event 11 classes for motorcycles, vendors ,
  dj and more. look for sighs or just follow the crowd!\n\nFor more inf
 ormation visit https://northeastwheelsevents.com/events/gfree-bike-sho
 w
DTSTART:20150613T160000Z
DTEND:20150613T210000Z
CATEGORIES:bike, show
LOCATION:gFree Felloship center
WEBSITE:
URL:
CONTACT:814-342-1197
ORGANIZER;CN="Bud Stiner":https://northeastwheelsevents.com/profile/Bu
 dStiner
ATTACH;FMTTYPE="image/jpeg":http://storage.ning.com/topology/rest/1.0/
 file/get/2284071879?profile=original
ATTENDEE;ROLE=REQ-PARTICIPANT;PARTSTAT=ACCEPTED;RSVP=TRUE;CN="Bud Stin
 er":https://northeastwheelsevents.com/profile/BudStiner
END:VEVENT
END:VCALENDAR
