BEGIN:VCALENDAR
PRODID:NingEventWidget-v1
VERSION:2.0
METHOD:PUBLISH
BEGIN:VEVENT
UID:5167423:Event:314625
DTSTAMP:20260422T152713Z
SUMMARY:Giants Despair Hillclimb
DESCRIPTION:Please join us for the Giants Despair Hillclimb, which wil
 l be held July 8-9, 2023 in Laurel Run, PA (just outside of Wilkes Bar
 re). This is the forth event in the Pennsylvania Hillclimb Association
  (PHA) Champion Series. It is an SCCA sanctioned event and is hosted b
 y the Giants Despair Association.  Registration for this event will op
 en in June.  Online registration will be on motorsportreg.com -- sear
 ch for Giants Despair Hillclimb.  Camping is allowed at this event, an
 d there are many food vendors in the pit area.  There are spectator a
 reas up through the first half of the course.  Please see the PHA Webs
 ite for more information. See the Rules Menu for car classes and prepa
 ration rules, and the Current Schedule/Results Menu for registration l
 inks and the full series schedule. Or look under the About PHA menu fo
 r contacts if you have questions.\n\nFor more information visit https:
 //northeastwheelsevents.com/events/giants-despair-hillclimb-1
DTSTART:20230708T120000Z
DTEND:20230709T220000Z
CATEGORIES:"scca hillclimb", racing
LOCATION:Reading, PA
WEBSITE:https://pahillclimb.org/
URL:https://pahillclimb.org/
CONTACT:
ORGANIZER:PA Hillclimb Association, Blue Mountain Region SCCA
ATTACH;FMTTYPE="image/jpeg":https://storage.ning.com/topology/rest/1.0
 /file/get/11128561692?profile=original
ATTENDEE;ROLE=REQ-PARTICIPANT;PARTSTAT=ACCEPTED;RSVP=TRUE;CN="PA Hillc
 limb Association":https://northeastwheelsevents.com/profile/PAHillclim
 bAssociation
END:VEVENT
END:VCALENDAR
