BEGIN:VCALENDAR
PRODID:NingEventWidget-v1
VERSION:2.0
METHOD:PUBLISH
BEGIN:VEVENT
UID:5167423:Event:82409
DTSTAMP:20260422T013848Z
SUMMARY:Giants Despair Hillclimb
DESCRIPTION:Giants Despair hill climb is a level 4 SCCA Time Trial. Th
 ere will be a music festival Friday and Saturday nights. Entry require
 s membership and a license but spectating is free.\n\nFor more informa
 tion visit https://northeastwheelsevents.com/events/giants-despair-hil
 lclimb
DTSTART:20150710T040000Z
DTEND:20150713T035900Z
CATEGORIES:hillclimb
LOCATION:Laurel Run, PA (Wilkes Barre)
WEBSITE:http://Pahillclimb.org
URL:http://Pahillclimb.org
CONTACT:
ORGANIZER:North Eastern PA Region, SCCA
ATTACH;FMTTYPE="image/jpeg":
ATTENDEE;ROLE=REQ-PARTICIPANT;PARTSTAT=ACCEPTED;RSVP=TRUE;CN="Donald M
 cLaughlin":https://northeastwheelsevents.com/profile/DonaldMcLaughlin
END:VEVENT
END:VCALENDAR
