BEGIN:VCALENDAR
PRODID:NingEventWidget-v1
VERSION:2.0
METHOD:PUBLISH
BEGIN:VEVENT
UID:5167423:Event:333092
DTSTAMP:20260425T173609Z
SUMMARY:good shephard community church car show
DESCRIPTION:first annual car show hosted by good shepherd community ch
 urch in Reamstown PA. free to attend as a spectator.  cost is to show
  a car. All car show proceeds benefit GSCC youth group. this helps you
 th pursue missions and other outreach opportunities. follow link to re
 gisterhttps://form.jotform.com/242077189954166\n\nFor more information
  visit https://northeastwheelsevents.com/events/good-shephard-communit
 y-church-car-show
DTSTART:20240928T140000Z
DTEND:20240928T180000Z
CATEGORIES:car, show
LOCATION:Reamstown PA
WEBSITE:
URL:
CONTACT:
ORGANIZER;CN="michael addison":https://northeastwheelsevents.com/profi
 le/michaeladdison
ATTACH;FMTTYPE="image/jpeg":https://storage.ning.com/topology/rest/1.0
 /file/get/12879418485?profile=original
ATTENDEE;ROLE=REQ-PARTICIPANT;PARTSTAT=ACCEPTED;RSVP=TRUE;CN="michael 
 addison":https://northeastwheelsevents.com/profile/michaeladdison
END:VEVENT
END:VCALENDAR
