BEGIN:VCALENDAR
PRODID:NingEventWidget-v1
VERSION:2.0
METHOD:PUBLISH
BEGIN:VEVENT
UID:5167423:Event:64951
DTSTAMP:20260422T030642Z
SUMMARY:Goodguys 18th PPG Nationals
DESCRIPTION:July 10-12, 2015\nOhio Expo Center\n717 East 17th Avenue, 
 Columbus, OH  43211\nGeneral Admission (ages 13+) - $20.00; Kids (age
 s 7-12) - $6.00; Kids (ages 6 & under) - FREE\nParking - $6.00 fee cha
 rged by Ohio Expo Center\n \nJoin Goodguys for the BIG ONE! This is i
 t – the biggest and best event of the year for fans of vintage cars 
 & late model American muscle!  The 18th annual Goodguys PPG Nationals
  brings over 6,000 1972 & older hot rods, customs, muscle cars, trucks
  and classics to the newly landscaped Ohio Expo Center! The GIANT week
 end also features 400 vendor exhibits, ground-pounding Goodguys Friday
  Night Vintage Drags at National Trail Raceway, Swap Meet & AutoTrader
  Classics Cars 4 Sale Corral, Goodguys AutoCross racing competition fe
 aturing the “Sponsor Shootout”, live stage shows, how-to seminars,
  model car show, FREE kids entertainment, Builder’s Choice awards, t
 he crowning of the Street Machine of the Year and Street Rod of the Ye
 ar and so much more!  And don’t forget to watch the Goodguys G-10 C
 hevy truck giveaway ceremony and the debut of the 2016 Grand Prize Giv
 eaway car! Late model American muscle, customs and trucks will be feat
 ured July 12th, as Goodguys proudly presents All American Sunday! All 
 late model American made or American powered show cars welcome on Sund
 ay! Get in gear and get to the BIG ONE! Visit www.good-guys.com for co
 mplete event details! Goodguys...Cool Cars, Cool People…Good Times!\
 n\nFor more information visit https://northeastwheelsevents.com/events
 /goodguys-18th-ppg-nationals
DTSTART:20150710T120000Z
DTEND:20150712T210000Z
CATEGORIES:car, show
LOCATION:Ohio Expo Center
WEBSITE:https://www.good-guys.com/ggn-2015
URL:https://www.good-guys.com/ggn-2015
CONTACT:9258389876
ORGANIZER:Goodguys
ATTACH;FMTTYPE="image/jpeg":http://storage.ning.com/topology/rest/1.0/
 file/get/2284066419?profile=original
ATTENDEE;ROLE=REQ-PARTICIPANT;PARTSTAT=ACCEPTED;RSVP=TRUE;CN="Justin B
 ower":https://northeastwheelsevents.com/profile/JustinBower
END:VEVENT
END:VCALENDAR
