BEGIN:VCALENDAR
PRODID:NingEventWidget-v1
VERSION:2.0
METHOD:PUBLISH
BEGIN:VEVENT
UID:5167423:Event:101891
DTSTAMP:20260425T090144Z
SUMMARY:Goodguys 24th East Coast Nationals
DESCRIPTION:General Admission (ages 13+) - $20.00; Kids (ages 7-12) - 
 $6.00; Kids (ages 6 & under) - FREE\nParking - $10.00 fee charged by F
 airgrounds\n \nKick-off the summer hot rodding season in style with t
 he Goodguys at the 23rd annual Summer Get-Together Giant Automotive Fe
 stival at the Alameda County Fairgrounds in Pleasanton on Saturday and
  Sunday, June 4 &5!  This huge two-day event features over 2,500 Amer
 ican made or powered hot rods, customs, classics, muscle cars and truc
 ks of all years on display, an Indoor Muscle Car Show featuring Muscle
  Cars and the ever-popular Behind Bars, Inc. Custom Bicycle Exhibit! 
  Plus, don’t miss the huge Swap Meet & Cars 4 Sale Corral, over 100 
 vendor exhibits, the gear-grinding Goodguys AutoCross timed racing com
 petition, Nitro Thunderfest Dragster Exhibition, a Craft Beer Garden, 
 Pinstriper’s Brush Bash, Model Car Show, Live Music Entertainment, a
  FREE Kids Zone and so much more!  It’s a full weekend of family st
 yle hot roddin’ fun in Pleasanton! For complete details and to regis
 ter your vehicle or purchase tickets, visit www.good-guys.com.  Goodg
 uys… Cool Cars, Cool People, Good Times!\n\nFor more information vis
 it https://northeastwheelsevents.com/events/goodguys-24th-east-coast-n
 ationals
DTSTART:20160610T120000Z
DTEND:20160612T190000Z
CATEGORIES:car, show
LOCATION:Dutchess County Fairgrounds
WEBSITE:https://www.good-guys.com/ecn-2016
URL:https://www.good-guys.com/ecn-2016
CONTACT:9258389876
ORGANIZER;CN="Bre Ann Houston":https://northeastwheelsevents.com/profi
 le/BreAnnHouston
ATTACH;FMTTYPE="image/jpeg":http://storage.ning.com/topology/rest/1.0/
 file/get/2284080270?profile=original
ATTENDEE;ROLE=REQ-PARTICIPANT;PARTSTAT=ACCEPTED;RSVP=TRUE;CN="Bre Ann 
 Houston":https://northeastwheelsevents.com/profile/BreAnnHouston
END:VEVENT
END:VCALENDAR
