BEGIN:VCALENDAR
PRODID:NingEventWidget-v1
VERSION:2.0
METHOD:PUBLISH
BEGIN:VEVENT
UID:5167423:Event:139799
DTSTAMP:20260423T034744Z
SUMMARY:Goodguys 25th East Coast Nationals
DESCRIPTION:Goodguys continues its early summer-swing with a return to
  the Dutchess County Fairgrounds in Rhinebeck, NY for some hot roddinâ
 €™ on the Hudson the weekend of June 9-11 for the 25th East Coast Nati
 onals Giant Car Show!Â  This nostalgic trip down memory lane will show
 case over 1,500 of the East Coastâ€™s finest 1972 & older hot rods, cu
 stoms, muscle cars, trucks & classics on display!Â  Plus, donâ€™t miss
  the Swap Meet & Cars 4 Sale Corral, Nitro Thunderfest Dragster Exhibi
 tion, Vendor Exhibits featuring the latest products and trends, Live M
 usic Entertainment, special parking areas on Saturday, a FREE Kids Zon
 e and so much more.Â  Itâ€™s a full weekend of family style hot roddin
 â€™ fun you wonâ€™t want to miss! For complete details and to register
  your vehicle or purchase tickets, visit www.good-guys.com.\n\nFor mor
 e information visit https://northeastwheelsevents.com/events/goodguys-
 25th-east-coast-nationals-1
DTSTART:20170609T120000Z
DTEND:20170611T190000Z
CATEGORIES:car, show
LOCATION:Dutchess County Fairgrounds
WEBSITE:https://www.good-guys.com/ecn-2017
URL:https://www.good-guys.com/ecn-2017
CONTACT:9258389876
ORGANIZER;CN="Bre Ann Houston":https://northeastwheelsevents.com/profi
 le/BreAnnHouston
ATTACH;FMTTYPE="image/jpeg":http://storage.ning.com/topology/rest/1.0/
 file/get/2284092032?profile=original
ATTENDEE;ROLE=REQ-PARTICIPANT;PARTSTAT=ACCEPTED;RSVP=TRUE;CN="Bre Ann 
 Houston":https://northeastwheelsevents.com/profile/BreAnnHouston
END:VEVENT
END:VCALENDAR
