BEGIN:VCALENDAR
PRODID:NingEventWidget-v1
VERSION:2.0
METHOD:PUBLISH
BEGIN:VEVENT
UID:5167423:Event:304
DTSTAMP:20260423T162916Z
SUMMARY:Grand AM ROLEX Race
DESCRIPTION:Round 10 of the Grand AM Rolex Sports Car Series. Thousand
 s of spectators will join the noise and excitement that Grand AM provi
 des. Come see the multiple manufacturers compete in this 2 hour 45 min
  long endurance race between the best of the best.\n\nPlease join us a
 s we honor our troops from Walter Reid hospital, Letterkenny Army Depo
 t, and the Wounded Warrior Project. Support the Wounded Warrior Corvet
 te.\n\nFor more information visit https://northeastwheelsevents.com/ev
 ents/grand-am-rolex-race
DTSTART:20100716T220000Z
DTEND:20100718T230000Z
CATEGORIES:race
LOCATION:New Jersey Motorsports Park 47 Warbird Drive Millville, NJ
WEBSITE:http://www.njmp.com
URL:http://www.njmp.com
CONTACT:(856) 327-7217
ORGANIZER;CN="sam stuard":https://northeastwheelsevents.com/profile/sa
 mstuard
ATTACH;FMTTYPE="image/jpeg":http://storage.ning.com/topology/rest/1.0/
 file/get/2284045921?profile=original
ATTENDEE;ROLE=REQ-PARTICIPANT;PARTSTAT=ACCEPTED;RSVP=TRUE;CN="sam stua
 rd":https://northeastwheelsevents.com/profile/samstuard
END:VEVENT
END:VCALENDAR
