BEGIN:VCALENDAR
PRODID:NingEventWidget-v1
VERSION:2.0
METHOD:PUBLISH
BEGIN:VEVENT
UID:5167423:Event:36291
DTSTAMP:20260424T010430Z
SUMMARY:Grand Marketplace “Annual Fathers Day Car Show”
DESCRIPTION:Grand Marketplace “Annual Fathers Day Car Show” from 9
 am-3:30pm Sat. June 14th, rain date Sat. June 21st,  $15.00 dos only
 . 4340 Rt 130 N, Willingboro N.J. 08046  All years, makes & models we
 lcome.  “Top 100 Trophies” including 15 specialty trophies plus 6
 ft “Grand Marketplace Choice” & 6ft “Best of Show” Sponsored b
 y Grand Marketplace at Willingboro. Hosted & Judged by Movin’ On Kru
 Zers. Great Food, Giveaways, Music by “Tom E Tunes”  200 Stores 
 under one roof.  Spectators Free. Partial proceeds benefit local char
 ities. Vendors or for more info: please call Bobbi (H) 215-752-0484 (C
 ) 215-820-3276 or www.movinonkruzers.com  E-mail-movin’onkruzers@in
 box.com  Registration closes at 12 noon.\n \n\nFor more information
  visit https://northeastwheelsevents.com/events/grand-marketplace-annu
 al-fathers-day-car-show
DTSTART:20140614T130000Z
DTEND:20140614T193000Z
CATEGORIES:car, show
LOCATION:Grand Marketplace
WEBSITE:http://www.movinonkruzers.com
URL:http://www.movinonkruzers.com
CONTACT:215-820-3276
ORGANIZER:Movin On CruZers
ATTACH;FMTTYPE="image/jpeg":
ATTENDEE;ROLE=REQ-PARTICIPANT;PARTSTAT=ACCEPTED;RSVP=TRUE;CN="Pamela H
 irschhorn":https://northeastwheelsevents.com/profile/PamelaHirschhorn
END:VEVENT
END:VCALENDAR
