BEGIN:VCALENDAR
PRODID:NingEventWidget-v1
VERSION:2.0
METHOD:PUBLISH
BEGIN:VEVENT
UID:5167423:Event:60915
DTSTAMP:20260422T202151Z
SUMMARY:Grand Opening of Lotus: The Art of Lightness
DESCRIPTION:Join us for a fun evening as we unveil our newest exhibit 
 – Lotus: The Art of Lightness! Be among the first to see these fab
 ulous vehicles, talk with our guest curator about the exhibit along wi
 th some of the vehicle owners. Appetizers and beverages included with 
 your ticket price along with full access to all AACA Museum exhibits. 
 Advance tickets required $15 each.\n\nFor more information visit https
 ://northeastwheelsevents.com/events/grand-opening-of-lotus-the-art-of-
 lightness
DTSTART:20150123T230000Z
DTEND:20150124T020000Z
CATEGORIES:event
LOCATION:AACA Museum
WEBSITE:http://www.aacamuseum.org/grand-opening-reception-lotus-art-li
 ghtness/
URL:http://www.aacamuseum.org/grand-opening-reception-lotus-art-lightn
 ess/
CONTACT:717-566-7100
ORGANIZER;CN="AACA Museum":https://northeastwheelsevents.com/profile/A
 ACAMuseum553
ATTACH;FMTTYPE="image/jpeg":http://storage.ning.com/topology/rest/1.0/
 file/get/2284063945?profile=original
ATTENDEE;ROLE=REQ-PARTICIPANT;PARTSTAT=ACCEPTED;RSVP=TRUE;CN="Pamela H
 irschhorn":https://northeastwheelsevents.com/profile/PamelaHirschhorn
ATTENDEE;ROLE=REQ-PARTICIPANT;PARTSTAT=ACCEPTED;RSVP=TRUE;CN="AACA Mus
 eum":https://northeastwheelsevents.com/profile/AACAMuseum553
ATTENDEE;ROLE=REQ-PARTICIPANT;PARTSTAT=TENTATIVE;RSVP=TRUE;CN="Albert 
 Mach":https://northeastwheelsevents.com/profile/1lr9x74d5lfem
END:VEVENT
END:VCALENDAR
