BEGIN:VCALENDAR
PRODID:NingEventWidget-v1
VERSION:2.0
METHOD:PUBLISH
BEGIN:VEVENT
UID:5167423:Event:138794
DTSTAMP:20260423T191102Z
SUMMARY:Great Little Indoor Swap Meet
DESCRIPTION:Indoor swap meet. Connecticut's oldest running event. CAL
 L FOR MORE INFORMATION\n\nFor more information visit https://northeast
 wheelsevents.com/events/great-little-indoor-swap-meet-1
DTSTART:20170108T120000Z
DTEND:20170108T160000Z
CATEGORIES:swap, meet
LOCATION:Powder Mill Barn
WEBSITE:
URL:
CONTACT:Donald Passardi  860-684-2675 or Jim Way  860-267-4626
ORGANIZER:Model A Ford Club of CT.
ATTACH;FMTTYPE="image/jpeg":
ATTENDEE;ROLE=REQ-PARTICIPANT;PARTSTAT=ACCEPTED;RSVP=TRUE;CN="Pamela H
 irschhorn":https://northeastwheelsevents.com/profile/PamelaHirschhorn
END:VEVENT
END:VCALENDAR
