BEGIN:VCALENDAR
PRODID:NingEventWidget-v1
VERSION:2.0
METHOD:PUBLISH
BEGIN:VEVENT
UID:5167423:Event:138213
DTSTAMP:20260423T223600Z
SUMMARY:Great Little Indoor Swap Meet
DESCRIPTION:Sponsored by the Model A Ford Club of Ct. Connecticut's ol
 dest running indoor swap meet CALL FOR INFORMATION\n\nFor more informa
 tion visit https://northeastwheelsevents.com/events/great-little-indoo
 r-swap-meet
DTSTART:20161204T120000Z
DTEND:20161204T160000Z
CATEGORIES:swap, meet
LOCATION:Powder Mill Barn
WEBSITE:
URL:
CONTACT:Donald Passardi 860-684-2675  Jim Way at 860-267-4626
ORGANIZER:Model A Ford Club of CT.
ATTACH;FMTTYPE="image/jpeg":
ATTENDEE;ROLE=REQ-PARTICIPANT;PARTSTAT=ACCEPTED;RSVP=TRUE;CN="Pamela H
 irschhorn":https://northeastwheelsevents.com/profile/PamelaHirschhorn
END:VEVENT
END:VCALENDAR
