BEGIN:VCALENDAR
PRODID:NingEventWidget-v1
VERSION:2.0
METHOD:PUBLISH
BEGIN:VEVENT
UID:5167423:Event:341660
DTSTAMP:20260425T225301Z
SUMMARY:Greene County Cruisers Fall Car Show
DESCRIPTION:\r\n\r\n\r\n\r\n\r\nJoin the Greene County Cruisers for th
 e 2025 Fall Car Show at Angelo Canna Town Park in Cairo, NY! This fami
 ly-friendly event features an impressive lineup of classic cars, muscl
 e cars, rat rods, customs, antiques, tuners, trucks, and motorcycles. 
 Enjoy live music, delicious food, vendors, door prizes, and a 50/50 ra
 ffle throughout the day.\r\nThe first 100 registered cars will receive
  a goodie bag and a dash plaque, and spectators are always welcome! Wh
 ether you’re a car enthusiast or just looking for a fun fall event i
 n the Northern Catskills, this show is the perfect way to spend your S
 aturday, 09/27/2025. Rain date Oct. 4.\r\nhttps://www.facebook.com/p/G
 reene-County-Cruisers-100064777296201/ \r\n\r\n\r\n\r\n\r\n\n\nFor mo
 re information visit https://northeastwheelsevents.com/events/greene-c
 ounty-cruisers-fall-car-show
DTSTART:20250927T140000Z
DTEND:20250927T200000Z
CATEGORIES:carshow
LOCATION:Angelo Canna Town Park
WEBSITE:https://www.greatnortherncatskills.com/events/greene-county-cr
 uisers-fall-car-show
URL:https://www.greatnortherncatskills.com/events/greene-county-cruise
 rs-fall-car-show
CONTACT:518-943-3223
ORGANIZER:Greene County Cruisers
ATTACH;FMTTYPE="image/jpeg":https://storage.ning.com/topology/rest/1.0
 /file/get/13650349879?profile=original
ATTENDEE;ROLE=REQ-PARTICIPANT;PARTSTAT=ACCEPTED;RSVP=TRUE;CN="William 
 Bruce":https://northeastwheelsevents.com/profile/WilliamBruce
END:VEVENT
END:VCALENDAR
