BEGIN:VCALENDAR
PRODID:NingEventWidget-v1
VERSION:2.0
METHOD:PUBLISH
BEGIN:VEVENT
UID:5167423:Event:22213
DTSTAMP:20260424T181638Z
SUMMARY:Greenwich Concours d'Elegance
DESCRIPTION:Listed in 1,000 Places to See Before You Die, Greenwich i
 s unique, in that it is actually two concours, back-to-back. Saturday'
 s Concours Americana is exclusively for American makes, while Sunday's
  Concours International is exclusively for imported marques. The Green
 wiched based 12-M Yacht Development Foundation will again have a modes
 t display of former America's Cup 12-Meter yachts moored at the Delama
 r Hotel. Given good weather, they will engage in match racing during t
 he weekend. Concours visitors will be able to view the yachts up close
 , and there will also be limited opportunities to sail on them. Classi
 c motorcycles will also be on display.\n \n\n\nYoung and old will enj
 oy trying out the display of \"Virtual GT\" driving simulators in the 
 Automobile Magazine/Motor Trend pavilion. There will be galleries of a
 utomotive art and demonstrations, as well as displays of the very late
 st new cars such as Mercedes-Benz, Maybach, Lexus, Jaguar, Mini, Land 
 Rover, Smart, Bentley, Ferrari, Maserati, Aston Martin, and Bugatti. 
  \n  \nIn addition, the Greenwich Concours will also be the site of
  a major auction by Bonhams of significant collectors' cars and autom
 obilia from the collections of several prominent collectors.\n \n\nDa
 tes: \nSaturday June 1st and Sunday June 2nd, 2013\n2012 Poster Car\
 n\nShow Time:\n10:00am to 5:00pm each day.\n\n\nAdmission:\n$30 per da
 y or $45 for both days; children 12 and under are free when accompanie
 d by an adult.\n\nBonhams Auction:\nAuction - Sunday June 2ndAutomobi
 lia: 10:00amMotorcars: 12pm\n\nLocation:\nRoger Sherman Baldwin Park, 
 Greenwich, CT\n\nWeather:\nThe show goes on rain or shine as schedul
 ed.\n\n \n\n1963 Chevrolet Corvette Rondine\n\n \n \n\n\n\n\nFor mo
 re information visit https://northeastwheelsevents.com/events/greenwic
 h-concours-d-elegance
DTSTART:20130601T140000Z
DTEND:20130602T140000Z
CATEGORIES:concours, and, auction
LOCATION:Roger Sherman Baldwin Park, Greenwich, CT
WEBSITE:http://www.greenwichconcours.com/
URL:http://www.greenwichconcours.com/
CONTACT:(203) 618-0460  E-mail: info@greenwichconcours.com
ORGANIZER:Greenwich Concours d' Elegance
ATTACH;FMTTYPE="image/jpeg":http://storage.ning.com/topology/rest/1.0/
 file/get/2284050640?profile=original
ATTENDEE;ROLE=REQ-PARTICIPANT;PARTSTAT=ACCEPTED;RSVP=TRUE;CN="Pamela H
 irschhorn":https://northeastwheelsevents.com/profile/PamelaHirschhorn
END:VEVENT
END:VCALENDAR
