BEGIN:VCALENDAR
PRODID:NingEventWidget-v1
VERSION:2.0
METHOD:PUBLISH
BEGIN:VEVENT
UID:5167423:Event:320559
DTSTAMP:20260422T170926Z
SUMMARY:Groton Cruisers Car Club 2023 Cruise In and Poker Run 2
DESCRIPTION:Groton Cruisers Car Club and Summer Hill Brewing sponsor t
 he Cruise In and Poker Run 2. Saturday, September 30, 2023 to end at 
 SummerHill Brewing, 14408 Rt.90, Locke, NY, 13092. 11am to 4pm ( card 
 readings about 4 ish). (Rain Date, October 7, 2023.) Wrist Bands can b
 e purchased at SummerHill Brewing, Thursdays through Sunday. Wrist ban
 ds $15.00 to who ever wants to play a hand. We have 5 stops on route, 
 you can stop the 5 stops in any order, as long as you don't start befo
 re 11am. The 5 stops are: American Legion Post 800, 307 Maine St. , Gr
 oton, NY ; Cobblestone Inn, 537 NY38, Locke, Ny; Stonehedges Golf, 549
  Stevens Rd. , Groton, NY; Elm Tree Inn, 2 McLean Rd, McLean Ny; Cortl
 and Minature Golf, ny13, Cortland, NY, next to the A&W. Prizes: 1st Be
 st Hand, $250.00, 2nd Best Hand, $100.00, 3rd Best Hand, T-Shirt. Surp
 rises along the way! 50/50 raffles! Cruise In free to non poker run pa
 rticipants. Donations accepted. Please bring non- perishable food to d
 rop off at American Legion. In Care of Groton Community Cupboard. Cont
 act for more info.,  summerhillbrewing@gmail.com, or 607-591-6148 or 
 Rick Neville at 607-279-3442. \n\nFor more information visit https://
 northeastwheelsevents.com/events/groton-cruisers-car-club-2023-cruise-
 in-and-poker-run-2
DTSTART:20230930T150000Z
DTEND:20230930T210000Z
CATEGORIES:poker, run, cruise, in
LOCATION:SummerHill Brewing
WEBSITE:https://www.summerhillbrewing.com
URL:https://www.summerhillbrewing.com
CONTACT:607-279-3442
ORGANIZER:Rick Neville
ATTACH;FMTTYPE="image/jpeg":https://storage.ning.com/topology/rest/1.0
 /file/get/12213171283?profile=original
ATTENDEE;ROLE=REQ-PARTICIPANT;PARTSTAT=ACCEPTED;RSVP=TRUE;CN="William 
 Bruce":https://northeastwheelsevents.com/profile/WilliamBruce
END:VEVENT
END:VCALENDAR
