BEGIN:VCALENDAR
PRODID:NingEventWidget-v1
VERSION:2.0
METHOD:PUBLISH
BEGIN:VEVENT
UID:5167423:Event:323312
DTSTAMP:20260424T010217Z
SUMMARY:Grotto Pizza Presents 2nd Friday Cruise Nights
DESCRIPTION:Come out and show off your ride and enjoy food and drinks 
 at Grottos the 2nd Friday May thru October.\n5 pm - 9 pm\nRain date is
  always the 3rd Friday!\nNO BURN OUTS OR YOU WILL BE BANNED! \n\nFor 
 further information contact carshows4nonprofits@gmail.com\n\nFor more 
 information visit https://northeastwheelsevents.com/events/grotto-pizz
 a-presents-2nd-friday-cruise-nights-21
DTSTART:20241011T210000Z
DTEND:20241012T000000Z
CATEGORIES:car, show
LOCATION:Grotto Pizza
WEBSITE:https://rebrand.ly/j7xld9c
URL:https://rebrand.ly/j7xld9c
CONTACT:3029836966
ORGANIZER;CN="LaBarre Everette":https://northeastwheelsevents.com/prof
 ile/LaBarreEverette
ATTACH;FMTTYPE="image/jpeg":https://storage.ning.com/topology/rest/1.0
 /file/get/12306300478?profile=original
ATTENDEE;ROLE=REQ-PARTICIPANT;PARTSTAT=ACCEPTED;RSVP=TRUE;CN="LaBarre 
 Everette":https://northeastwheelsevents.com/profile/LaBarreEverette
END:VEVENT
END:VCALENDAR
