BEGIN:VCALENDAR
PRODID:NingEventWidget-v1
VERSION:2.0
METHOD:PUBLISH
BEGIN:VEVENT
UID:5167423:Event:550
DTSTAMP:20260423T225805Z
SUMMARY:Grounded 4 Life One Day Slam  Bristol, Pa.
DESCRIPTION:Event description. Truck Classes 1,2,3 In Each Class\nGm M
 ini -93 (mild & wild)\nGm Mini +94 (mild & wild)\nFord Mini\nForeign M
 ini (mild & wild)\nMid Size\nGm Full Size (mild & wild)\nFull Size Oth
 er\nClassic (pre 81)\n4 Wheel Drive Truck\nMini Suv/van\nFull Size Suv
 /van\nUnfinished (50% primer)\n\nCar Classes 1,2,3 In Each Class\nHond
 a\nMitsubish\nNissan\nSubaru\nScion\nVW\nChrysler/Dodge\nLuxury/VIP\nD
 omestic Other\nForeign Other\nStreet Rod\nMuscle Car\nFireBird/Camaro\
 nMustang\nStock\nModified\nSpecial Interest\nUnfinished(50% Primer)\n\
 nSpecialty Awards\nBest Of Show Car Trophy and $100 Cash\nBest Of Show
  Truck Trophy and $100 Cash\nBest Of Show Old School Trophy and Cash\n
 Grounded 4 Life Choice\nG4L Ladies Choice\nDropNDrag Choice\n\"SPARKY\
 " Memorial Award\nBest JDM\nBest Paint\nBest Graphics\nBest Tire & Whe
 el\nBest Stereo Install\nSenior Citizen Choice\nClub Participation\n\n
 HIGH / LOW COMP\nLowest Car 1,2,3\nLowest Truck 1,2,3\nHighest Truck 1
 ,2,3\n\nSHOW COVERAGE BY MINI TRUCKIN / Street Trucks / Layed Out Vide
 o\nTruck Show Coverage.Com / Car Show Coverage.Com / Drag For The Came
 ra.com\n\nEvent Fees: Show Registration Day Of Show $20\nPre-Registrat
 io $15\n\nFor more information visit https://northeastwheelsevents.com
 /events/grounded-4-life-one-day-slam-1
DTSTART:20100711T130000Z
DTEND:20100711T200000Z
CATEGORIES:truck, classes
LOCATION:Bristol, Pa
WEBSITE:http://www.grounded4life.org
URL:http://www.grounded4life.org
CONTACT:267 784 2524
ORGANIZER:MINI TRUCKIN / Street Trucks
ATTACH;FMTTYPE="image/jpeg":
ATTENDEE;ROLE=REQ-PARTICIPANT;PARTSTAT=ACCEPTED;RSVP=TRUE;CN="Robert W
 oodward":https://northeastwheelsevents.com/profile/RobertWoodward
ATTENDEE;ROLE=REQ-PARTICIPANT;PARTSTAT=ACCEPTED;RSVP=TRUE;CN="Richard 
 Scott":https://northeastwheelsevents.com/profile/RichardScott
END:VEVENT
END:VCALENDAR
