BEGIN:VCALENDAR
PRODID:NingEventWidget-v1
VERSION:2.0
METHOD:PUBLISH
BEGIN:VEVENT
UID:5167423:Event:36476
DTSTAMP:20260424T214955Z
SUMMARY:Haddon Farmers Market Car Show
DESCRIPTION:Haddon Farmers Market   Car Show from 9am-3:30pm, Sat. 
 April 19th,, rain date Sat. April 26th,  $15.00 dos only: Haddon Far
 mers Market 2820 Mt. Ephriam Ave Haddon Twp N.J 08104    All years
 , makes & models welcome. \"Top 100 Trophies\"! including 15 specialty
  trophies plus 6 foot \"Haddon Farmers Market  Choice\" & 6 foot \"B
 est Of Show\" Sponsored by Haddon Farmers Market. Hosted & Judged by M
 ovin' On KruZers. Great Food, Giveaways, Music by \"Tom E Tunes\" 100 
 stores under one roof. Spectators Free. Partial proceeds benefit local
  charities.  Vendors or for more info: please call Bobbi (H) 215-752-
 0484, (C) 215-820-3276 or www.movinonkruzers.com, E-Mail - movin'onkru
 zers@inbox.com  Registration closes at 12 noon.\n\nFor more informat
 ion visit https://northeastwheelsevents.com/events/haddon-farmers-mark
 et-car-show
DTSTART:20140419T120000Z
DTEND:20140419T193000Z
CATEGORIES:car, show
LOCATION:Haddon Farmers Market
WEBSITE:http://www.movinonkruzers.com
URL:http://www.movinonkruzers.com
CONTACT:215-820-3276
ORGANIZER:Movin On CruZers
ATTACH;FMTTYPE="image/jpeg":
ATTENDEE;ROLE=REQ-PARTICIPANT;PARTSTAT=ACCEPTED;RSVP=TRUE;CN="Pamela H
 irschhorn":https://northeastwheelsevents.com/profile/PamelaHirschhorn
END:VEVENT
END:VCALENDAR
