BEGIN:VCALENDAR
PRODID:NingEventWidget-v1
VERSION:2.0
METHOD:PUBLISH
BEGIN:VEVENT
UID:5167423:Event:23076
DTSTAMP:20260424T014416Z
SUMMARY:Hagerstown Speedway
DESCRIPTION:\nSaturday,   June 8   7:00  PM\n\nMayberry Night - Lat
 e Model Sportsman, Pure Stocks, Hobby Stocks   Special with Time Tria
 ls PLUS Bill   Bowman Tribute $1000 to win LS MAKE UP FEATURE FROM 5/
 18 with 8 laps complete..Nationally-renown Barney Fife impersonator
  Scott Epperson, will be on hand for more   fun and entertainment\n\n
 \n\n\n\n\nFor more information visit https://northeastwheelsevents.com
 /events/hagerstown-speedway-1
DTSTART:20130608T230000Z
DTEND:20130609T034500Z
CATEGORIES:dirt, track, racing
LOCATION:Hagerstown Speedway
WEBSITE:http://www.hagerstownspeedway,com
URL:http://www.hagerstownspeedway,com
CONTACT:301-582-0640
ORGANIZER;CN="Calvin Forsythe":https://northeastwheelsevents.com/profi
 le/CalvinForsythe
ATTACH;FMTTYPE="image/jpeg":
ATTENDEE;ROLE=REQ-PARTICIPANT;PARTSTAT=ACCEPTED;RSVP=TRUE;CN="Calvin F
 orsythe":https://northeastwheelsevents.com/profile/CalvinForsythe
END:VEVENT
END:VCALENDAR
