BEGIN:VCALENDAR
PRODID:NingEventWidget-v1
VERSION:2.0
METHOD:PUBLISH
BEGIN:VEVENT
UID:5167423:Event:49082
DTSTAMP:20260425T222559Z
SUMMARY:Hagerstown Speedway
DESCRIPTION:Hagerstown Speedway Presents;\nÂ \nWednesday, July 2 (7:30
  p.m.): 24th Annual PA Sprint Car Speedweek, 410 Sprints (30 laps) + E
 astern Museum of Motor Racing (EMMR) Vintage Racing Car Exhibition. Pi
 ts open at (5:00Â  p.m.). Grandstands at (5:00Â  p.m.)Â  Advance ticke
 t $20, $25 day of event or bring 5 cans of food for the flood victimsâ
 €™ in Clear Springs and save $5 off the gate price of $25.\nÂ \nSaturd
 ay, July 5 (6:00 p.m.): 33rd Annual Hub City Classic â€“ AMA â€“ Grand
  Nationals Motorcycles. Gates open at 4:00; warm up at 6:00 racing at 
 8:00.\nReserved seats $36, General Admission $30.\nVisit; www.speedway
 shopping.com for advance tickets.\nÂ \nFriday, Saturday and Sunday, Ju
 ly 18, 19, 20; Monster Jam.\n\n\nFor more information visit https://no
 rtheastwheelsevents.com/events/hagerstown-speedway-13
DTSTART:20140702T210000Z
DTEND:20140719T210000Z
CATEGORIES:dirt, track, racing, and, monster, jam
LOCATION:Hagerstown Speedway
WEBSITE:http://hagerstownspeedway.com
URL:http://hagerstownspeedway.com
CONTACT:301- 582-0640
ORGANIZER:Hagerstown Speedway
ATTACH;FMTTYPE="image/jpeg":
ATTENDEE;ROLE=REQ-PARTICIPANT;PARTSTAT=ACCEPTED;RSVP=TRUE;CN="Calvin F
 orsythe":https://northeastwheelsevents.com/profile/CalvinForsythe
END:VEVENT
END:VCALENDAR
