BEGIN:VCALENDAR
PRODID:NingEventWidget-v1
VERSION:2.0
METHOD:PUBLISH
BEGIN:VEVENT
UID:5167423:Event:23947
DTSTAMP:20260422T091224Z
SUMMARY:Hagerstown Speedway
DESCRIPTION:\nSaturday, June 29  7:00\n\n                
                                         
                  48th ANNUAL JOHNNY ROBERTS MEMORIAL THREE S
 TATE   FLYERS-- 35 lap Late Model plus Late Model Sportsman, Pure Sto
 cks, Hobby   Stocks, Classic Racing Series and STUNT SPECIAL-- OL' TI
 MERS NIGHT--all   retired racers Free Admission and 6PM Picnic/Social
  for them and other   special guests\n\n\n\n\n\n\nFor more informatio
 n visit https://northeastwheelsevents.com/events/hagerstown-speedway-2
DTSTART:20130629T220000Z
DTEND:20130630T034500Z
CATEGORIES:dirt, track, racing
LOCATION:Five miles west of Hagerstown on Rt 40
WEBSITE:http://hagerstownspeedway.com
URL:http://hagerstownspeedway.com
CONTACT:301-582-0640
ORGANIZER;CN="Calvin Forsythe":https://northeastwheelsevents.com/profi
 le/CalvinForsythe
ATTACH;FMTTYPE="image/jpeg":
ATTENDEE;ROLE=REQ-PARTICIPANT;PARTSTAT=ACCEPTED;RSVP=TRUE;CN="Calvin F
 orsythe":https://northeastwheelsevents.com/profile/CalvinForsythe
END:VEVENT
END:VCALENDAR
